BEGIN:VCALENDAR
VERSION:2.0
PRODID:-//Iris Kurz &nbsp; - ECPv6.15.20//NONSGML v1.0//EN
CALSCALE:GREGORIAN
METHOD:PUBLISH
X-ORIGINAL-URL:https://iriskurz.de
X-WR-CALDESC:Veranstaltungen für Iris Kurz &nbsp;
REFRESH-INTERVAL;VALUE=DURATION:PT1H
X-Robots-Tag:noindex
X-PUBLISHED-TTL:PT1H
BEGIN:VTIMEZONE
TZID:UTC
BEGIN:STANDARD
TZOFFSETFROM:+0000
TZOFFSETTO:+0000
TZNAME:UTC
DTSTART:20230101T000000
END:STANDARD
END:VTIMEZONE
BEGIN:VEVENT
DTSTART;TZID=UTC:20241229T180000
DTEND;TZID=UTC:20250103T110000
DTSTAMP:20260420T143936
CREATED:20231030T135641Z
LAST-MODIFIED:20231030T140031Z
UID:4046-1735495200-1735902000@iriskurz.de
SUMMARY:Die Rauhnächte
DESCRIPTION:Die Rauhnächte			Erlebe die Magie der Rauhnächte!\n \nvom 28.12.2025 – 04.01.2026\n \nDie Rauhnächte sind eine geheimnisvolle Zeit\, ein Tor zur Anderswelt. So begegnest du den Rauhnächten: Nicht im alten Jahr nicht im neuen Jahr\, sondern irgendwo dazwischen. Das ist der Raum\, wo du gelassen hinter die Welt schauen kannst\, aber auch in die Welt. Lichtvolle Helfer werden dir zur Seite stehen\, dich segnen und über die Schwelle begleiten\, wo du Kraft\, Mut und Intuition schöpfen kannst.\nDie Rauhnächte haben auch etwas mit Rauch zu tun. So werden wir viel räuchern\, auch ein wärmendes Feuer auf unserem Schamanenplatz entzünden und viele Rituale an Kraftorten ausführen\, die dich immer tiefer in Stille\, zu dir\, in dein Sein führen.\nBegegne dem neuen Jahr bewusst\, mit weisen Botschaften aus den heiligen Nächten\, in deiner strahlenden Reinheit und es wird dich erfüllen im kommenden Jahr.\nBitte sehr warme Kleidung und kleine Isomatte zum Sitzen mitbringen. \n  \nDirekt zur Buchung: Seminarbuchung Yoga Vidya
URL:https://iriskurz.de/event/die-rauhnaechte-2/
LOCATION:Yoga Vidya Bad Meinberg
CATEGORIES:Auf alten Pfaden,Aufrecht in Bewegung,Seminare
END:VEVENT
BEGIN:VEVENT
DTSTART;TZID=UTC:20241229T180000
DTEND;TZID=UTC:20250105T180000
DTSTAMP:20260420T143936
CREATED:20231030T140630Z
LAST-MODIFIED:20231030T140631Z
UID:4055-1735495200-1736100000@iriskurz.de
SUMMARY:Die Rauhnächte
DESCRIPTION:Die Rauhnächte			Erlebe die Magie der Rauhnächte!\n \nvom 28.12.2025 – 04.01.2026\n \nDie Rauhnächte sind eine geheimnisvolle Zeit\, ein Tor zur Anderswelt. So begegnest du den Rauhnächten: Nicht im alten Jahr nicht im neuen Jahr\, sondern irgendwo dazwischen. Das ist der Raum\, wo du gelassen hinter die Welt schauen kannst\, aber auch in die Welt. Lichtvolle Helfer werden dir zur Seite stehen\, dich segnen und über die Schwelle begleiten\, wo du Kraft\, Mut und Intuition schöpfen kannst.\nDie Rauhnächte haben auch etwas mit Rauch zu tun. So werden wir viel räuchern\, auch ein wärmendes Feuer auf unserem Schamanenplatz entzünden und viele Rituale an Kraftorten ausführen\, die dich immer tiefer in Stille\, zu dir\, in dein Sein führen.\nBegegne dem neuen Jahr bewusst\, mit weisen Botschaften aus den heiligen Nächten\, in deiner strahlenden Reinheit und es wird dich erfüllen im kommenden Jahr.\nBitte sehr warme Kleidung und kleine Isomatte zum Sitzen mitbringen. \n  \nDirekt zur Buchung: Seminarbuchung Yoga Vidya
URL:https://iriskurz.de/event/die-rauhnaechte-4/
LOCATION:Yoga Vidya Bad Meinberg
CATEGORIES:Auf alten Pfaden,Aufrecht in Bewegung,Seminare
END:VEVENT
END:VCALENDAR