BEGIN:VCALENDAR
VERSION:2.0
PRODID:-//Iris Kurz &nbsp; - ECPv6.15.20//NONSGML v1.0//EN
CALSCALE:GREGORIAN
METHOD:PUBLISH
X-WR-CALNAME:Iris Kurz &nbsp;
X-ORIGINAL-URL:https://iriskurz.de
X-WR-CALDESC:Veranstaltungen für Iris Kurz &nbsp;
REFRESH-INTERVAL;VALUE=DURATION:PT1H
X-Robots-Tag:noindex
X-PUBLISHED-TTL:PT1H
BEGIN:VTIMEZONE
TZID:UTC
BEGIN:STANDARD
TZOFFSETFROM:+0000
TZOFFSETTO:+0000
TZNAME:UTC
DTSTART:20250101T000000
END:STANDARD
END:VTIMEZONE
BEGIN:VEVENT
DTSTART;TZID=UTC:20260617T180000
DTEND;TZID=UTC:20260715T210000
DTSTAMP:20260420T163213
CREATED:20260302T140707Z
LAST-MODIFIED:20260302T140707Z
UID:6226-1781719200-1784149200@iriskurz.de
SUMMARY:Das Geheimnis der Runen und Yin Yoga
DESCRIPTION:Das Geheimnis der Runen: Wissen\, Praxis und sanftes Yin Yoga			Runenmagie live erleben!\n \nam 17.06.-15.07.2026 von 18:00 – 21:00 Uhr per Zoom Online\n \n\n\n\n5x Mittwoch: 17.06.2026\, 24.06.2026\, 01.07.2026\, 08.07.2026\, 15.07.2026\nUhrzeit: 18:00 – 21:00 Uhr \nDas Wort Rune bedeutet Geheimnis und in ihnen stecken die Geheimnisse des Werdens\, des Seins und des Vergehens. Runen sind wie Sinnbilder\, man kann sie als Zeichen für bestimmte Elementarkräfte\, Wesenheiten\, Handlungen oder Lebensumstände betrachten\, die intuitiv zugänglich werden\, wenn man sich auf ihre Energie einlässt. Wir laden dich auf eine Reise ein\, die Runen kennenzulernen und ihre Kraft zu erfühlen\, eine Reise durch die 24 Runen des Großen Futhark\, der aufgeteilt ist in die drei Aettir.\n– Freyrs Aett\, auch Aett der Bauern (der erschaffenden Kräfte) genannt\, wirkt im Feinstofflichen\, schöpferischen Bereich der Welt\, auf ihm baut alles Weitere auf.\n– Hagalaz Aett auch Aett der Zauberer (der beschützenden Kräfte) genannt\, wirkt in der Zwischenwelt. Es sind die Einflüsse von außen\, Dinge/Kräfte\, worauf wir keinen Einfluss haben.\n– Thyrs Aett\, das Aett der Krieger (der Kräfte von Traum und Zerstörung)\, welches in der Menschenwelt zum Wirken kommt und dessen acht Runen sehr leicht auf das Wirken und Wollen der Lebewesen auf dieser Erde zu übertragen ist. \nSo lernst du die Bedeutung der Runen kennen. Das Stellen und intonieren der Runen zusammen mit der sanften Yin Yoga Praxis erlauben dir ganz tief in die Energie einzutauchen. Im praktischen Teil lernst du noch mehr über die Bedeutung und Anwendungsweisen\, wie du dir selbst Runen herstellen kannst\, wie diese geweiht werden und welche weiteren Methoden es gibt\, dir die das Geheimnis der Runensprache zugänglich zu machen. \nFür den Kurs benötigst du nur:\n• einen ruhigen Raum ohne Störung\n• Yogamatte oder Teppich\n• stabile Internetverbindung\n• Computer oder Tablet (notfalls Smartphone) mit Kamera und Mikrofon\, mit dem du dich über Zoom einwählen kannst \n\n\n\n  \nDirekt zur Buchung: Seminarbuchung Yoga Vidya
URL:https://iriskurz.de/event/das-geheimnis-der-runen-und-yin-yoga/
LOCATION:Zoom Online
CATEGORIES:Auf alten Pfaden,Aufrecht in Bewegung,Online Workshop
END:VEVENT
BEGIN:VEVENT
DTSTART;TZID=UTC:20260719T180000
DTEND;TZID=UTC:20260724T090000
DTSTAMP:20260420T163213
CREATED:20240814T094418Z
LAST-MODIFIED:20251228T190448Z
UID:4970-1784484000-1784883600@iriskurz.de
SUMMARY:Schamanische Natur-Rituale Ausbildung
DESCRIPTION:Das Geheimnis der Runen: Wissen\, Praxis und sanftes Yin Yoga			Runenmagie live erleben!\n \nam 17.06.-15.07.2026 von 18:00 – 21:00 Uhr per Zoom Online\n \n\n\n\n5x Mittwoch: 17.06.2026\, 24.06.2026\, 01.07.2026\, 08.07.2026\, 15.07.2026\nUhrzeit: 18:00 – 21:00 Uhr \nDas Wort Rune bedeutet Geheimnis und in ihnen stecken die Geheimnisse des Werdens\, des Seins und des Vergehens. Runen sind wie Sinnbilder\, man kann sie als Zeichen für bestimmte Elementarkräfte\, Wesenheiten\, Handlungen oder Lebensumstände betrachten\, die intuitiv zugänglich werden\, wenn man sich auf ihre Energie einlässt. Wir laden dich auf eine Reise ein\, die Runen kennenzulernen und ihre Kraft zu erfühlen\, eine Reise durch die 24 Runen des Großen Futhark\, der aufgeteilt ist in die drei Aettir.\n– Freyrs Aett\, auch Aett der Bauern (der erschaffenden Kräfte) genannt\, wirkt im Feinstofflichen\, schöpferischen Bereich der Welt\, auf ihm baut alles Weitere auf.\n– Hagalaz Aett auch Aett der Zauberer (der beschützenden Kräfte) genannt\, wirkt in der Zwischenwelt. Es sind die Einflüsse von außen\, Dinge/Kräfte\, worauf wir keinen Einfluss haben.\n– Thyrs Aett\, das Aett der Krieger (der Kräfte von Traum und Zerstörung)\, welches in der Menschenwelt zum Wirken kommt und dessen acht Runen sehr leicht auf das Wirken und Wollen der Lebewesen auf dieser Erde zu übertragen ist. \nSo lernst du die Bedeutung der Runen kennen. Das Stellen und intonieren der Runen zusammen mit der sanften Yin Yoga Praxis erlauben dir ganz tief in die Energie einzutauchen. Im praktischen Teil lernst du noch mehr über die Bedeutung und Anwendungsweisen\, wie du dir selbst Runen herstellen kannst\, wie diese geweiht werden und welche weiteren Methoden es gibt\, dir die das Geheimnis der Runensprache zugänglich zu machen. \nFür den Kurs benötigst du nur:\n• einen ruhigen Raum ohne Störung\n• Yogamatte oder Teppich\n• stabile Internetverbindung\n• Computer oder Tablet (notfalls Smartphone) mit Kamera und Mikrofon\, mit dem du dich über Zoom einwählen kannst \n\n\n\n  \nDirekt zur Buchung: Seminarbuchung Yoga Vidya
URL:https://iriskurz.de/event/schamanische-natur-rituale-ausbildung-3/
LOCATION:Yoga Vidya Bad Meinberg
CATEGORIES:Auf alten Pfaden,Neue Wege mit Herz,Seminare
END:VEVENT
END:VCALENDAR