BEGIN:VCALENDAR
VERSION:2.0
PRODID:-//Iris Kurz &nbsp; - ECPv6.15.20//NONSGML v1.0//EN
CALSCALE:GREGORIAN
METHOD:PUBLISH
X-WR-CALNAME:Iris Kurz &nbsp;
X-ORIGINAL-URL:https://iriskurz.de
X-WR-CALDESC:Veranstaltungen für Iris Kurz &nbsp;
REFRESH-INTERVAL;VALUE=DURATION:PT1H
X-Robots-Tag:noindex
X-PUBLISHED-TTL:PT1H
BEGIN:VTIMEZONE
TZID:UTC
BEGIN:STANDARD
TZOFFSETFROM:+0000
TZOFFSETTO:+0000
TZNAME:UTC
DTSTART:20230101T000000
END:STANDARD
END:VTIMEZONE
BEGIN:VEVENT
DTSTART;VALUE=DATE:20241221
DTEND;VALUE=DATE:20241222
DTSTAMP:20260425T162510
CREATED:20240424T091346Z
LAST-MODIFIED:20241109T143520Z
UID:4664-1734739200-1734825599@iriskurz.de
SUMMARY:Jahreskreisfeste - Yule Einzelritual
DESCRIPTION:Jahreskreishochfeste			Yule – Wintersonnenwende – Die Rückkehr des Lichts\n\nDieses Sonnenfest ist der längsten Nacht um den 20.–22. Dezember gewidmet und markiert die Rückkehr des Lichts. Der Lichtgott wird inmitten der Dunkelheit wiedergeboren\, und sein Aufstieg wird mit Kerzen\, Feuern und festlicher Wärme gefeiert. Yule erinnert uns daran\, dass nach der Dunkelheit stets das Licht folgt\, und der Zyklus des Lebens ewig weitergeht. Die dunkle Göttin\, die Mutter allen Seins\, gebiert das Sonnenkind in das Reich der Spirits\, die Oberwelt. \nZur Wintersonnenwende lädt dieses Yule-Ritual dazu ein\, das vergangene Jahr zu ehren und das Licht willkommen zu heißen. Ein selbst gebundener Yule-Kranz symbolisiert die Beständigkeit der Natur\, während Dankeskärtchen den Yule-Baum schmücken. Gemeinsam wird heißer Apfelwein geteilt\, begleitet von persönlichen Danksagungen und Segenswünschen\, die die Rückkehr des Lichts feiern und das Band zwischen den Anwesenden stärken. Ein kraftvolles Ritual für Einkehr\, Wärme und Gemeinschaft. \nBitte aktiviere JavaScript in deinem Browser\, um dieses Formular fertigzustellen.Name *VornameNachnameEmail *Mit der Anmeldung bekommst du das Passwort Das Ritual kannst du für dich alleine feiern oder zusammen mit deiner Familie. ---------------------------------  \n\nAls Energieausgleich für das Skript mit der kompletten Ritualanleitung kannst du mir gerne eine Spende zukommen lassen\, per Paypal an iris.kurz@gmx.net \nIch nehme teil  \nDas Ritual ist auf Spendenbasis.\nDu bekommst mit dieser Anmeldung die Anleitung für ein Ritual\, dass du für dich alleine oder mit deiner Familie feiern kannst. \n 
URL:https://iriskurz.de/event/jahreskreisfest-einzelritual/
CATEGORIES:Auf alten Pfaden
END:VEVENT
END:VCALENDAR